BEGIN:VCALENDAR
VERSION:2.0
PRODID:-//Online Writing Centers Association - ECPv6.15.20//NONSGML v1.0//EN
CALSCALE:GREGORIAN
METHOD:PUBLISH
X-ORIGINAL-URL:https://www.onlinewritingcenters.org
X-WR-CALDESC:Events for Online Writing Centers Association
REFRESH-INTERVAL;VALUE=DURATION:PT1H
X-Robots-Tag:noindex
X-PUBLISHED-TTL:PT1H
BEGIN:VTIMEZONE
TZID:America/New_York
BEGIN:DAYLIGHT
TZOFFSETFROM:-0500
TZOFFSETTO:-0400
TZNAME:EDT
DTSTART:20180311T070000
END:DAYLIGHT
BEGIN:STANDARD
TZOFFSETFROM:-0400
TZOFFSETTO:-0500
TZNAME:EST
DTSTART:20181104T060000
END:STANDARD
BEGIN:DAYLIGHT
TZOFFSETFROM:-0500
TZOFFSETTO:-0400
TZNAME:EDT
DTSTART:20190310T070000
END:DAYLIGHT
BEGIN:STANDARD
TZOFFSETFROM:-0400
TZOFFSETTO:-0500
TZNAME:EST
DTSTART:20191103T060000
END:STANDARD
BEGIN:DAYLIGHT
TZOFFSETFROM:-0500
TZOFFSETTO:-0400
TZNAME:EDT
DTSTART:20200308T070000
END:DAYLIGHT
BEGIN:STANDARD
TZOFFSETFROM:-0400
TZOFFSETTO:-0500
TZNAME:EST
DTSTART:20201101T060000
END:STANDARD
BEGIN:DAYLIGHT
TZOFFSETFROM:-0500
TZOFFSETTO:-0400
TZNAME:EDT
DTSTART:20210314T070000
END:DAYLIGHT
BEGIN:STANDARD
TZOFFSETFROM:-0400
TZOFFSETTO:-0500
TZNAME:EST
DTSTART:20211107T060000
END:STANDARD
END:VTIMEZONE
BEGIN:VEVENT
DTSTART;TZID=America/New_York:20201029T171500
DTEND;TZID=America/New_York:20201029T180000
DTSTAMP:20260424T075906
CREATED:20201024T231441Z
LAST-MODIFIED:20201024T233102Z
UID:2165-1603991700-1603994400@www.onlinewritingcenters.org
SUMMARY:OWCA SIG | Meet the Executive Board
DESCRIPTION:Event Details\n\nDate: October 29\, 2020\, 5:15-6:00pm EST\nPresenters: Jenelle Dembsey\, Sarah Prince\, and Elle Tyson (OWCA Executive Board)\nEvent: Listen. Learn. Lead.: An online event hosted by the International Writing Centers Association (IWCA)\n\nEvent Description\nThis special interest group (SIG) will introduce the new Online Writing Centers Association\, including (a) the association’s mission and 2021 goals\, (b) opportunities for membership\, and (c) options for committee work\, board positions\, and other ways to get involved. Attendees can meet the OWCA Executive Board and share ideas for resources and support. \nRegister\nPlease register for this free event through the International Writing Center Association’s (IWCA) membership website. You do not need to be an active IWCA member to attend. \nZoom Information\nYou can enter the OWCA SIG through the Zoom information below: \nJoin Zoom Meeting: \n\nhttps://zoom.us/j/95508387027\nMeeting ID: 955 0838 7027\n\nOne tap mobile \n\n+13017158592\,\,95508387027# US (Germantown)\n+13126266799\,\,95508387027# US (Chicago)\n\nDial by your location \n\n+1 301 715 8592 US (Germantown)\n+1 312 626 6799 US (Chicago)\n+1 646 558 8656 US (New York)\n+1 253 215 8782 US (Tacoma)\n+1 346 248 7799 US (Houston)\n+1 669 900 6833 US (San Jose)\n\nFind your local number: https://zoom.us/u/aqcqVoRK8
URL:https://www.onlinewritingcenters.org/calendar/sig-2020/
CATEGORIES:special interest group
END:VEVENT
BEGIN:VEVENT
DTSTART;TZID=America/New_York:20191019T121500
DTEND;TZID=America/New_York:20191019T133000
DTSTAMP:20260424T075906
CREATED:20190918T235758Z
LAST-MODIFIED:20190920T175951Z
UID:1634-1571487300-1571491800@www.onlinewritingcenters.org
SUMMARY:SIG at IWCA 2019
DESCRIPTION:Session Information\nConference: International Writing Centers Association (view OWC-related sessions at IWCA 2019) \nDate and Time: Saturday\, October 19\, 12:15 – 1:30pm EST \nPresenters: Sarah Prince\, Beth Nastachowski\, Jenelle Dembsey\, and Megan Boeshart \nOnsite Participation: Room Union A\, Hyatt Regency\, Columbus\, Ohio \nVirtual Participation: Zoom. Register to attend our SIG virtually! Save your confirmation email with the link to join the session. \nAbstract\nThis special interest group (SIG) is for writing centers working with or thinking about working with students online as either a partial or fully online writing center (OWC). During its second year at IWCA\, this SIG will be structured in two parts: First\, we will report back on current and upcoming initiatives\, including the OWC Community website\, our on-going virtual conversation hours\, a special issue of ROLE on OWCs\, and our efforts make this SIG an IWCA standing group. Second\, attendees will participate in small-group discussions on the benefits and challenges specific to OWCs\, including ways OWC tutors and professionals can better connect.
URL:https://www.onlinewritingcenters.org/calendar/sig-2019/
CATEGORIES:international-conference,special interest group
END:VEVENT
BEGIN:VEVENT
DTSTART;TZID=America/New_York:20190405T140000
DTEND;TZID=America/New_York:20190405T150000
DTSTAMP:20260424T075906
CREATED:20190307T204557Z
LAST-MODIFIED:20190404T175428Z
UID:1381-1554472800-1554476400@www.onlinewritingcenters.org
SUMMARY:SIG at ECWCA 2019: Evolving Technologies in Online Writing Center Work
DESCRIPTION:Google Doc for recording session notes \nSession Information\nConference: East Central Writing Centers Association (ECWCA) Conference 2019 \nType of Session: Roundtable and Special Interest Group (SIG) \nInstitution: University of Dayton \nSession Title: Evolving Technologies in Online Writing Center Work \nFacilitator: Jenelle Dembsey \nDate: April 5\, 2019 from 2-3pm EST \nSession Description\nThe potential for online writing center work is directly affected by available and evolving technology platforms. At times\, technology can limit what is possible. In other cases\, technology can re-define online consultations entirely. For example\, collaborative technologies like Google Docs have introduced the revolutionary idea that students can be present for and active in asynchronous appointments (Moberg\, 2010; Schultz\, 2010)\, blurring the boundaries between asynchronous and synchronous consulting support. \nIn a recent IWCA survey\, respondents were interested in learning the pros and cons of different technological platforms used for online writing center work. As a response to this need\, this session will engage attendees in conversations regarding the successes and failures of asynchronous and synchronous technologies in their local contexts. This session focuses both as a roundtable for online consulting platforms and as a special interest group for online writing center work more broadly. In addition to discussion\, attendees will be briefly introduced to the Online Writing Centers Community and invited to participate in shaping future resources and support.
URL:https://www.onlinewritingcenters.org/calendar/ecwca-2019/
CATEGORIES:special interest group
END:VEVENT
END:VCALENDAR