BEGIN:VCALENDAR
VERSION:2.0
PRODID:-//Online Writing Centers Association - ECPv6.15.20//NONSGML v1.0//EN
CALSCALE:GREGORIAN
METHOD:PUBLISH
X-WR-CALNAME:Online Writing Centers Association
X-ORIGINAL-URL:https://www.onlinewritingcenters.org
X-WR-CALDESC:Events for Online Writing Centers Association
REFRESH-INTERVAL;VALUE=DURATION:PT1H
X-Robots-Tag:noindex
X-PUBLISHED-TTL:PT1H
BEGIN:VTIMEZONE
TZID:America/New_York
BEGIN:DAYLIGHT
TZOFFSETFROM:-0500
TZOFFSETTO:-0400
TZNAME:EDT
DTSTART:20230312T070000
END:DAYLIGHT
BEGIN:STANDARD
TZOFFSETFROM:-0400
TZOFFSETTO:-0500
TZNAME:EST
DTSTART:20231105T060000
END:STANDARD
BEGIN:DAYLIGHT
TZOFFSETFROM:-0500
TZOFFSETTO:-0400
TZNAME:EDT
DTSTART:20240310T070000
END:DAYLIGHT
BEGIN:STANDARD
TZOFFSETFROM:-0400
TZOFFSETTO:-0500
TZNAME:EST
DTSTART:20241103T060000
END:STANDARD
BEGIN:DAYLIGHT
TZOFFSETFROM:-0500
TZOFFSETTO:-0400
TZNAME:EDT
DTSTART:20250309T070000
END:DAYLIGHT
BEGIN:STANDARD
TZOFFSETFROM:-0400
TZOFFSETTO:-0500
TZNAME:EST
DTSTART:20251102T060000
END:STANDARD
END:VTIMEZONE
BEGIN:VEVENT
DTSTART;TZID=America/New_York:20240926T130000
DTEND;TZID=America/New_York:20240926T140000
DTSTAMP:20260419T125325
CREATED:20240917T192111Z
LAST-MODIFIED:20240917T192111Z
UID:5284-1727355600-1727359200@www.onlinewritingcenters.org
SUMMARY:Reading Club: "Promoting Writing Center Awareness to Diverse Populations with OWCA Events & Group Mentoring"
DESCRIPTION:Reading club provides a space to discuss writing center scholarship. Based on the article or chapter chosen\, participants will share experiences\, ideas\, strategies\, and questions about online writing centers (OWCs). This month\, the OWCA Reading Club will read and discuss two recent articles on the experiences of diverse students and tutors in writing centers. Attendees will discuss both articles as well as how to promote awareness of writing center services\, in particular to non-native English speakers and first-generation students. \nGuidelines for Participating\nReading Club is currently held in a Zoom Pro room. Participation is open to everyone\, including not-yet OWCA members. To ensure a safe space for open communication and interaction\, these sessions will not be recorded. \nRegister\nYou can register for a reading club through the scheduling system below. Follow these steps: \n\nSelect your time zone from the drop-down menu\nClick the “Register” button next to the event you’d like to attend\nFill out the registration form and click “Complete Registration”\nSave your confirmation email to have the Zoom information or cancel your registration later. You can also respond to this email to contact the event organizers.\n\nA reminder email will also be sent the morning of the event.
URL:https://www.onlinewritingcenters.org/calendar/rc-9-26-2024/
END:VEVENT
END:VCALENDAR