BEGIN:VCALENDAR
VERSION:2.0
PRODID:-//Online Writing Centers Association - ECPv6.15.20//NONSGML v1.0//EN
CALSCALE:GREGORIAN
METHOD:PUBLISH
X-WR-CALNAME:Online Writing Centers Association
X-ORIGINAL-URL:https://www.onlinewritingcenters.org
X-WR-CALDESC:Events for Online Writing Centers Association
REFRESH-INTERVAL;VALUE=DURATION:PT1H
X-Robots-Tag:noindex
X-PUBLISHED-TTL:PT1H
BEGIN:VTIMEZONE
TZID:America/New_York
BEGIN:DAYLIGHT
TZOFFSETFROM:-0500
TZOFFSETTO:-0400
TZNAME:EDT
DTSTART:20230312T070000
END:DAYLIGHT
BEGIN:STANDARD
TZOFFSETFROM:-0400
TZOFFSETTO:-0500
TZNAME:EST
DTSTART:20231105T060000
END:STANDARD
BEGIN:DAYLIGHT
TZOFFSETFROM:-0500
TZOFFSETTO:-0400
TZNAME:EDT
DTSTART:20240310T070000
END:DAYLIGHT
BEGIN:STANDARD
TZOFFSETFROM:-0400
TZOFFSETTO:-0500
TZNAME:EST
DTSTART:20241103T060000
END:STANDARD
BEGIN:DAYLIGHT
TZOFFSETFROM:-0500
TZOFFSETTO:-0400
TZNAME:EDT
DTSTART:20250309T070000
END:DAYLIGHT
BEGIN:STANDARD
TZOFFSETFROM:-0400
TZOFFSETTO:-0500
TZNAME:EST
DTSTART:20251102T060000
END:STANDARD
END:VTIMEZONE
BEGIN:VEVENT
DTSTART;TZID=America/New_York:20240829T140000
DTEND;TZID=America/New_York:20240829T150000
DTSTAMP:20260419T123141
CREATED:20240812T194351Z
LAST-MODIFIED:20240812T194421Z
UID:5274-1724940000-1724943600@www.onlinewritingcenters.org
SUMMARY:Championing DEI in the Job Market: Strategies for Academic Success (ft. Gloria Poveda) with OWCA Events & Group Mentoring
DESCRIPTION:Webinars provide a space to share experiences\, ideas\, strategies\, and questions about online writing centers (OWCs). \nEvent Details\n\nPresenters: Gloria Poveda\nTitle: “Championing DEI in the Job Market: Strategies for Academic Success (ft. Gloria Poveda) with OWCA Events & Group Mentoring”\nHosting Organization: Online Writing Centers Association\n\nThis webinar will explore the importance of Diversity\, Equity\, and Inclusion (DEI) in the academic job market. Whether tutoring writers in these genres or conducting their own job searches\, participants will gain valuable insights into advocating for DEI in their professional journeys. Attendees will explore how DEI principles influence job search strategies\, application processes\, and workplace culture. The session will provide an overview of identifying and applying for positions prioritizing DEI\, interpret job descriptions with a DEI lens\, and craft application materials highlighting the commitment to these values. \n\nASL Interpretation and Recording\nWe work with Morr Interpreting to provide American Sign Language (ASL) interpreters in each webinar. Webinars are recorded\, given edited closed captions\, and shared in our Event Archive up to 2 weeks after the event date. \nGuidelines for Participating\nWebinars are currently held in a Zoom Pro room. Participation is open to everyone\, including not-yet OWCA members. To ensure our interpreters are visible and can translate without auditory or visual distractions\, we ask that participants keep their audio and video turned off during the event. Participants are welcome to ask questions and contribute in the chat. \nRecording\nThis event will be recorded\, and the recording will be available to the public. \nRegister\nYou can register for a webinar through the scheduling system below. Follow these steps: \n\nSelect your time zone from the drop-down menu\nClick the “Register” button next to the event you’d like to attend\nFill out the registration form and click “Complete Registration”\nSave your confirmation email to have the Zoom information or cancel your registration later. You can also respond to this email to contact the event organizers.\n\nA reminder email will also be sent the day of the event.
URL:https://www.onlinewritingcenters.org/calendar/poveda-2024/
END:VEVENT
END:VCALENDAR